Workbook

Sheet 出力
A1: ID | B1: 点検日 | C1: 設備名 | D1: 点検項目 | E1: 結果 | F1: 測定値 | G1: 単位 | H1: 点検者 | I1: 備考 | K1: ID照合 | L1: 印 | M1: 測定値 | N1: 設備・項目名 | O1: 基準の位置 | P1: 設定
A2: I20261003-01-001 | B2: 46298 | C2: １号機 | D2: 圧力 | E2: ○ | F2: 0.7 | G2: MPa | H2: 山田 一郎 | K2: =IF(COUNTA(A2:J2)=0,"",IF(A2="","IDなし",IF(SUMPRODUCT(--($A$2:$A$51=A2))<>1,"出力ID重複",IF(SUMPRODUCT(--(期待!$A$2:$A$51=A2),--(期待!$C$2:$C$51="必須"))<>1,"期待にないID","OK")))) -> OK | L2: =IF(K2="","",IF(E2="","結果が空欄",IF(E2="要確認","要確認",IF(SUMPRODUCT(--(凡例!$A$2:$A$51=E2))=1,"OK","凡例なし・重複")))) -> OK | M2: =IF(K2="","",IF(P2="不要",IF(AND(F2="",G2=""),"OK","不要項目に値あり"),IF(P2<>"要",P2,IF(F2="","測定値が空欄",IF(NOT(ISNUMBER(F2)),"測定値を確認",IF(NOT(EXACT(ASC(G2),ASC(INDEX(基準!$G$2:$G$51,O2)))),"単位を確認",IF(OR(F2<INDEX(基準!$E$2:$E$51,O2),F2>INDEX(基準!$F$2:$F$51,O2)),"基準外","OK"))))))) -> OK | N2: =IF(K2="","",IF(O2=0,"ID・基準を確認",IF(AND(ASC(C2)=ASC(INDEX(基準!$B$2:$B$51,O2)),ASC(D2)=ASC(INDEX(基準!$C$2:$C$51,O2))),"OK","設備・項目を確認"))) -> OK | O2: =IF(K2="OK",IF(SUMPRODUCT(--(基準!$A$2:$A$51=A2))=1,MATCH(A2,基準!$A$2:$A$51,0),0),0) -> 1 | P2: =IF(K2="","",IF(O2=0,"ID・基準を確認",IF(OR(INDEX(基準!$B$2:$B$51,O2)="",INDEX(基準!$C$2:$C$51,O2)=""),"基準名を確認",IF(INDEX(基準!$D$2:$D$51,O2)="不要","不要",IF(INDEX(基準!$D$2:$D$51,O2)<>"要","測定区分を確認",IF(AND(COUNT(INDEX(基準!$E$2:$F$51,O2,0))=2,INDEX(基準!$E$2:$E$51,O2)<=INDEX(基準!$F$2:$F$51,O2),INDEX(基準!$G$2:$G$51,O2)<>""),"要","基準値を確認")))))) -> 要
A3: I20261003-01-002 | B3: 46298 | C3: 1号機 | D3: 温度 | E3: ○ | F3: 25 | G3: ℃ | H3: 山田 一郎 | K3: =IF(COUNTA(A3:J3)=0,"",IF(A3="","IDなし",IF(SUMPRODUCT(--($A$2:$A$51=A3))<>1,"出力ID重複",IF(SUMPRODUCT(--(期待!$A$2:$A$51=A3),--(期待!$C$2:$C$51="必須"))<>1,"期待にないID","OK")))) -> OK | L3: =IF(K3="","",IF(E3="","結果が空欄",IF(E3="要確認","要確認",IF(SUMPRODUCT(--(凡例!$A$2:$A$51=E3))=1,"OK","凡例なし・重複")))) -> OK | M3: =IF(K3="","",IF(P3="不要",IF(AND(F3="",G3=""),"OK","不要項目に値あり"),IF(P3<>"要",P3,IF(F3="","測定値が空欄",IF(NOT(ISNUMBER(F3)),"測定値を確認",IF(NOT(EXACT(ASC(G3),ASC(INDEX(基準!$G$2:$G$51,O3)))),"単位を確認",IF(OR(F3<INDEX(基準!$E$2:$E$51,O3),F3>INDEX(基準!$F$2:$F$51,O3)),"基準外","OK"))))))) -> OK | N3: =IF(K3="","",IF(O3=0,"ID・基準を確認",IF(AND(ASC(C3)=ASC(INDEX(基準!$B$2:$B$51,O3)),ASC(D3)=ASC(INDEX(基準!$C$2:$C$51,O3))),"OK","設備・項目を確認"))) -> OK | O3: =IF(K3="OK",IF(SUMPRODUCT(--(基準!$A$2:$A$51=A3))=1,MATCH(A3,基準!$A$2:$A$51,0),0),0) -> 2 | P3: =IF(K3="","",IF(O3=0,"ID・基準を確認",IF(OR(INDEX(基準!$B$2:$B$51,O3)="",INDEX(基準!$C$2:$C$51,O3)=""),"基準名を確認",IF(INDEX(基準!$D$2:$D$51,O3)="不要","不要",IF(INDEX(基準!$D$2:$D$51,O3)<>"要","測定区分を確認",IF(AND(COUNT(INDEX(基準!$E$2:$F$51,O3,0))=2,INDEX(基準!$E$2:$E$51,O3)<=INDEX(基準!$F$2:$F$51,O3),INDEX(基準!$G$2:$G$51,O3)<>""),"要","基準値を確認")))))) -> 要
K4: =IF(COUNTA(A4:J4)=0,"",IF(A4="","IDなし",IF(SUMPRODUCT(--($A$2:$A$51=A4))<>1,"出力ID重複",IF(SUMPRODUCT(--(期待!$A$2:$A$51=A4),--(期待!$C$2:$C$51="必須"))<>1,"期待にないID","OK")))) | L4: =IF(K4="","",IF(E4="","結果が空欄",IF(E4="要確認","要確認",IF(SUMPRODUCT(--(凡例!$A$2:$A$51=E4))=1,"OK","凡例なし・重複")))) | M4: =IF(K4="","",IF(P4="不要",IF(AND(F4="",G4=""),"OK","不要項目に値あり"),IF(P4<>"要",P4,IF(F4="","測定値が空欄",IF(NOT(ISNUMBER(F4)),"測定値を確認",IF(NOT(EXACT(ASC(G4),ASC(INDEX(基準!$G$2:$G$51,O4)))),"単位を確認",IF(OR(F4<INDEX(基準!$E$2:$E$51,O4),F4>INDEX(基準!$F$2:$F$51,O4)),"基準外","OK"))))))) | N4: =IF(K4="","",IF(O4=0,"ID・基準を確認",IF(AND(ASC(C4)=ASC(INDEX(基準!$B$2:$B$51,O4)),ASC(D4)=ASC(INDEX(基準!$C$2:$C$51,O4))),"OK","設備・項目を確認"))) | O4: =IF(K4="OK",IF(SUMPRODUCT(--(基準!$A$2:$A$51=A4))=1,MATCH(A4,基準!$A$2:$A$51,0),0),0) -> 0 | P4: =IF(K4="","",IF(O4=0,"ID・基準を確認",IF(OR(INDEX(基準!$B$2:$B$51,O4)="",INDEX(基準!$C$2:$C$51,O4)=""),"基準名を確認",IF(INDEX(基準!$D$2:$D$51,O4)="不要","不要",IF(INDEX(基準!$D$2:$D$51,O4)<>"要","測定区分を確認",IF(AND(COUNT(INDEX(基準!$E$2:$F$51,O4,0))=2,INDEX(基準!$E$2:$E$51,O4)<=INDEX(基準!$F$2:$F$51,O4),INDEX(基準!$G$2:$G$51,O4)<>""),"要","基準値を確認")))))) | S4: 行照合 | T4: =IF(AND(COUNTIF(期待!C2:C51,"必須")>0,SUMPRODUCT(--(期待!E2:E51<>""),--(期待!E2:E51<>"OK"))=0,SUMPRODUCT(--(K2:K51<>""),--(K2:K51<>"OK"))=0),"行の照合OK","行を確認") -> 行の照合OK
K5: =IF(COUNTA(A5:J5)=0,"",IF(A5="","IDなし",IF(SUMPRODUCT(--($A$2:$A$51=A5))<>1,"出力ID重複",IF(SUMPRODUCT(--(期待!$A$2:$A$51=A5),--(期待!$C$2:$C$51="必須"))<>1,"期待にないID","OK")))) | L5: =IF(K5="","",IF(E5="","結果が空欄",IF(E5="要確認","要確認",IF(SUMPRODUCT(--(凡例!$A$2:$A$51=E5))=1,"OK","凡例なし・重複")))) | M5: =IF(K5="","",IF(P5="不要",IF(AND(F5="",G5=""),"OK","不要項目に値あり"),IF(P5<>"要",P5,IF(F5="","測定値が空欄",IF(NOT(ISNUMBER(F5)),"測定値を確認",IF(NOT(EXACT(ASC(G5),ASC(INDEX(基準!$G$2:$G$51,O5)))),"単位を確認",IF(OR(F5<INDEX(基準!$E$2:$E$51,O5),F5>INDEX(基準!$F$2:$F$51,O5)),"基準外","OK"))))))) | N5: =IF(K5="","",IF(O5=0,"ID・基準を確認",IF(AND(ASC(C5)=ASC(INDEX(基準!$B$2:$B$51,O5)),ASC(D5)=ASC(INDEX(基準!$C$2:$C$51,O5))),"OK","設備・項目を確認"))) | O5: =IF(K5="OK",IF(SUMPRODUCT(--(基準!$A$2:$A$51=A5))=1,MATCH(A5,基準!$A$2:$A$51,0),0),0) -> 0 | P5: =IF(K5="","",IF(O5=0,"ID・基準を確認",IF(OR(INDEX(基準!$B$2:$B$51,O5)="",INDEX(基準!$C$2:$C$51,O5)=""),"基準名を確認",IF(INDEX(基準!$D$2:$D$51,O5)="不要","不要",IF(INDEX(基準!$D$2:$D$51,O5)<>"要","測定区分を確認",IF(AND(COUNT(INDEX(基準!$E$2:$F$51,O5,0))=2,INDEX(基準!$E$2:$E$51,O5)<=INDEX(基準!$F$2:$F$51,O5),INDEX(基準!$G$2:$G$51,O5)<>""),"要","基準値を確認"))))))
K6: =IF(COUNTA(A6:J6)=0,"",IF(A6="","IDなし",IF(SUMPRODUCT(--($A$2:$A$51=A6))<>1,"出力ID重複",IF(SUMPRODUCT(--(期待!$A$2:$A$51=A6),--(期待!$C$2:$C$51="必須"))<>1,"期待にないID","OK")))) | L6: =IF(K6="","",IF(E6="","結果が空欄",IF(E6="要確認","要確認",IF(SUMPRODUCT(--(凡例!$A$2:$A$51=E6))=1,"OK","凡例なし・重複")))) | M6: =IF(K6="","",IF(P6="不要",IF(AND(F6="",G6=""),"OK","不要項目に値あり"),IF(P6<>"要",P6,IF(F6="","測定値が空欄",IF(NOT(ISNUMBER(F6)),"測定値を確認",IF(NOT(EXACT(ASC(G6),ASC(INDEX(基準!$G$2:$G$51,O6)))),"単位を確認",IF(OR(F6<INDEX(基準!$E$2:$E$51,O6),F6>INDEX(基準!$F$2:$F$51,O6)),"基準外","OK"))))))) | N6: =IF(K6="","",IF(O6=0,"ID・基準を確認",IF(AND(ASC(C6)=ASC(INDEX(基準!$B$2:$B$51,O6)),ASC(D6)=ASC(INDEX(基準!$C$2:$C$51,O6))),"OK","設備・項目を確認"))) | O6: =IF(K6="OK",IF(SUMPRODUCT(--(基準!$A$2:$A$51=A6))=1,MATCH(A6,基準!$A$2:$A$51,0),0),0) -> 0 | P6: =IF(K6="","",IF(O6=0,"ID・基準を確認",IF(OR(INDEX(基準!$B$2:$B$51,O6)="",INDEX(基準!$C$2:$C$51,O6)=""),"基準名を確認",IF(INDEX(基準!$D$2:$D$51,O6)="不要","不要",IF(INDEX(基準!$D$2:$D$51,O6)<>"要","測定区分を確認",IF(AND(COUNT(INDEX(基準!$E$2:$F$51,O6,0))=2,INDEX(基準!$E$2:$E$51,O6)<=INDEX(基準!$F$2:$F$51,O6),INDEX(基準!$G$2:$G$51,O6)<>""),"要","基準値を確認")))))) | S6: 次の確認 | T6: =IF(AND(T4="行の照合OK",SUMPRODUCT(--(L2:N51<>""),--(L2:N51<>"OK"))=0,COUNTIF(A2:I51,"要確認")=0),"原本照合へ","修正待ち") -> 原本照合へ
K7: =IF(COUNTA(A7:J7)=0,"",IF(A7="","IDなし",IF(SUMPRODUCT(--($A$2:$A$51=A7))<>1,"出力ID重複",IF(SUMPRODUCT(--(期待!$A$2:$A$51=A7),--(期待!$C$2:$C$51="必須"))<>1,"期待にないID","OK")))) | L7: =IF(K7="","",IF(E7="","結果が空欄",IF(E7="要確認","要確認",IF(SUMPRODUCT(--(凡例!$A$2:$A$51=E7))=1,"OK","凡例なし・重複")))) | M7: =IF(K7="","",IF(P7="不要",IF(AND(F7="",G7=""),"OK","不要項目に値あり"),IF(P7<>"要",P7,IF(F7="","測定値が空欄",IF(NOT(ISNUMBER(F7)),"測定値を確認",IF(NOT(EXACT(ASC(G7),ASC(INDEX(基準!$G$2:$G$51,O7)))),"単位を確認",IF(OR(F7<INDEX(基準!$E$2:$E$51,O7),F7>INDEX(基準!$F$2:$F$51,O7)),"基準外","OK"))))))) | N7: =IF(K7="","",IF(O7=0,"ID・基準を確認",IF(AND(ASC(C7)=ASC(INDEX(基準!$B$2:$B$51,O7)),ASC(D7)=ASC(INDEX(基準!$C$2:$C$51,O7))),"OK","設備・項目を確認"))) | O7: =IF(K7="OK",IF(SUMPRODUCT(--(基準!$A$2:$A$51=A7))=1,MATCH(A7,基準!$A$2:$A$51,0),0),0) -> 0 | P7: =IF(K7="","",IF(O7=0,"ID・基準を確認",IF(OR(INDEX(基準!$B$2:$B$51,O7)="",INDEX(基準!$C$2:$C$51,O7)=""),"基準名を確認",IF(INDEX(基準!$D$2:$D$51,O7)="不要","不要",IF(INDEX(基準!$D$2:$D$51,O7)<>"要","測定区分を確認",IF(AND(COUNT(INDEX(基準!$E$2:$F$51,O7,0))=2,INDEX(基準!$E$2:$E$51,O7)<=INDEX(基準!$F$2:$F$51,O7),INDEX(基準!$G$2:$G$51,O7)<>""),"要","基準値を確認"))))))
K8: =IF(COUNTA(A8:J8)=0,"",IF(A8="","IDなし",IF(SUMPRODUCT(--($A$2:$A$51=A8))<>1,"出力ID重複",IF(SUMPRODUCT(--(期待!$A$2:$A$51=A8),--(期待!$C$2:$C$51="必須"))<>1,"期待にないID","OK")))) | L8: =IF(K8="","",IF(E8="","結果が空欄",IF(E8="要確認","要確認",IF(SUMPRODUCT(--(凡例!$A$2:$A$51=E8))=1,"OK","凡例なし・重複")))) | M8: =IF(K8="","",IF(P8="不要",IF(AND(F8="",G8=""),"OK","不要項目に値あり"),IF(P8<>"要",P8,IF(F8="","測定値が空欄",IF(NOT(ISNUMBER(F8)),"測定値を確認",IF(NOT(EXACT(ASC(G8),ASC(INDEX(基準!$G$2:$G$51,O8)))),"単位を確認",IF(OR(F8<INDEX(基準!$E$2:$E$51,O8),F8>INDEX(基準!$F$2:$F$51,O8)),"基準外","OK"))))))) | N8: =IF(K8="","",IF(O8=0,"ID・基準を確認",IF(AND(ASC(C8)=ASC(INDEX(基準!$B$2:$B$51,O8)),ASC(D8)=ASC(INDEX(基準!$C$2:$C$51,O8))),"OK","設備・項目を確認"))) | O8: =IF(K8="OK",IF(SUMPRODUCT(--(基準!$A$2:$A$51=A8))=1,MATCH(A8,基準!$A$2:$A$51,0),0),0) -> 0 | P8: =IF(K8="","",IF(O8=0,"ID・基準を確認",IF(OR(INDEX(基準!$B$2:$B$51,O8)="",INDEX(基準!$C$2:$C$51,O8)=""),"基準名を確認",IF(INDEX(基準!$D$2:$D$51,O8)="不要","不要",IF(INDEX(基準!$D$2:$D$51,O8)<>"要","測定区分を確認",IF(AND(COUNT(INDEX(基準!$E$2:$F$51,O8,0))=2,INDEX(基準!$E$2:$E$51,O8)<=INDEX(基準!$F$2:$F$51,O8),INDEX(基準!$G$2:$G$51,O8)<>""),"要","基準値を確認"))))))
K9: =IF(COUNTA(A9:J9)=0,"",IF(A9="","IDなし",IF(SUMPRODUCT(--($A$2:$A$51=A9))<>1,"出力ID重複",IF(SUMPRODUCT(--(期待!$A$2:$A$51=A9),--(期待!$C$2:$C$51="必須"))<>1,"期待にないID","OK")))) | L9: =IF(K9="","",IF(E9="","結果が空欄",IF(E9="要確認","要確認",IF(SUMPRODUCT(--(凡例!$A$2:$A$51=E9))=1,"OK","凡例なし・重複")))) | M9: =IF(K9="","",IF(P9="不要",IF(AND(F9="",G9=""),"OK","不要項目に値あり"),IF(P9<>"要",P9,IF(F9="","測定値が空欄",IF(NOT(ISNUMBER(F9)),"測定値を確認",IF(NOT(EXACT(ASC(G9),ASC(INDEX(基準!$G$2:$G$51,O9)))),"単位を確認",IF(OR(F9<INDEX(基準!$E$2:$E$51,O9),F9>INDEX(基準!$F$2:$F$51,O9)),"基準外","OK"))))))) | N9: =IF(K9="","",IF(O9=0,"ID・基準を確認",IF(AND(ASC(C9)=ASC(INDEX(基準!$B$2:$B$51,O9)),ASC(D9)=ASC(INDEX(基準!$C$2:$C$51,O9))),"OK","設備・項目を確認"))) | O9: =IF(K9="OK",IF(SUMPRODUCT(--(基準!$A$2:$A$51=A9))=1,MATCH(A9,基準!$A$2:$A$51,0),0),0) -> 0 | P9: =IF(K9="","",IF(O9=0,"ID・基準を確認",IF(OR(INDEX(基準!$B$2:$B$51,O9)="",INDEX(基準!$C$2:$C$51,O9)=""),"基準名を確認",IF(INDEX(基準!$D$2:$D$51,O9)="不要","不要",IF(INDEX(基準!$D$2:$D$51,O9)<>"要","測定区分を確認",IF(AND(COUNT(INDEX(基準!$E$2:$F$51,O9,0))=2,INDEX(基準!$E$2:$E$51,O9)<=INDEX(基準!$F$2:$F$51,O9),INDEX(基準!$G$2:$G$51,O9)<>""),"要","基準値を確認"))))))
K10: =IF(COUNTA(A10:J10)=0,"",IF(A10="","IDなし",IF(SUMPRODUCT(--($A$2:$A$51=A10))<>1,"出力ID重複",IF(SUMPRODUCT(--(期待!$A$2:$A$51=A10),--(期待!$C$2:$C$51="必須"))<>1,"期待にないID","OK")))) | L10: =IF(K10="","",IF(E10="","結果が空欄",IF(E10="要確認","要確認",IF(SUMPRODUCT(--(凡例!$A$2:$A$51=E10))=1,"OK","凡例なし・重複")))) | M10: =IF(K10="","",IF(P10="不要",IF(AND(F10="",G10=""),"OK","不要項目に値あり"),IF(P10<>"要",P10,IF(F10="","測定値が空欄",IF(NOT(ISNUMBER(F10)),"測定値を確認",IF(NOT(EXACT(ASC(G10),ASC(INDEX(基準!$G$2:$G$51,O10)))),"単位を確認",IF(OR(F10<INDEX(基準!$E$2:$E$51,O10),F10>INDEX(基準!$F$2:$F$51,O10)),"基準外","OK"))))))) | N10: =IF(K10="","",IF(O10=0,"ID・基準を確認",IF(AND(ASC(C10)=ASC(INDEX(基準!$B$2:$B$51,O10)),ASC(D10)=ASC(INDEX(基準!$C$2:$C$51,O10))),"OK","設備・項目を確認"))) | O10: =IF(K10="OK",IF(SUMPRODUCT(--(基準!$A$2:$A$51=A10))=1,MATCH(A10,基準!$A$2:$A$51,0),0),0) -> 0 | P10: =IF(K10="","",IF(O10=0,"ID・基準を確認",IF(OR(INDEX(基準!$B$2:$B$51,O10)="",INDEX(基準!$C$2:$C$51,O10)=""),"基準名を確認",IF(INDEX(基準!$D$2:$D$51,O10)="不要","不要",IF(INDEX(基準!$D$2:$D$51,O10)<>"要","測定区分を確認",IF(AND(COUNT(INDEX(基準!$E$2:$F$51,O10,0))=2,INDEX(基準!$E$2:$E$51,O10)<=INDEX(基準!$F$2:$F$51,O10),INDEX(基準!$G$2:$G$51,O10)<>""),"要","基準値を確認"))))))
K11: =IF(COUNTA(A11:J11)=0,"",IF(A11="","IDなし",IF(SUMPRODUCT(--($A$2:$A$51=A11))<>1,"出力ID重複",IF(SUMPRODUCT(--(期待!$A$2:$A$51=A11),--(期待!$C$2:$C$51="必須"))<>1,"期待にないID","OK")))) | L11: =IF(K11="","",IF(E11="","結果が空欄",IF(E11="要確認","要確認",IF(SUMPRODUCT(--(凡例!$A$2:$A$51=E11))=1,"OK","凡例なし・重複")))) | M11: =IF(K11="","",IF(P11="不要",IF(AND(F11="",G11=""),"OK","不要項目に値あり"),IF(P11<>"要",P11,IF(F11="","測定値が空欄",IF(NOT(ISNUMBER(F11)),"測定値を確認",IF(NOT(EXACT(ASC(G11),ASC(INDEX(基準!$G$2:$G$51,O11)))),"単位を確認",IF(OR(F11<INDEX(基準!$E$2:$E$51,O11),F11>INDEX(基準!$F$2:$F$51,O11)),"基準外","OK"))))))) | N11: =IF(K11="","",IF(O11=0,"ID・基準を確認",IF(AND(ASC(C11)=ASC(INDEX(基準!$B$2:$B$51,O11)),ASC(D11)=ASC(INDEX(基準!$C$2:$C$51,O11))),"OK","設備・項目を確認"))) | O11: =IF(K11="OK",IF(SUMPRODUCT(--(基準!$A$2:$A$51=A11))=1,MATCH(A11,基準!$A$2:$A$51,0),0),0) -> 0 | P11: =IF(K11="","",IF(O11=0,"ID・基準を確認",IF(OR(INDEX(基準!$B$2:$B$51,O11)="",INDEX(基準!$C$2:$C$51,O11)=""),"基準名を確認",IF(INDEX(基準!$D$2:$D$51,O11)="不要","不要",IF(INDEX(基準!$D$2:$D$51,O11)<>"要","測定区分を確認",IF(AND(COUNT(INDEX(基準!$E$2:$F$51,O11,0))=2,INDEX(基準!$E$2:$E$51,O11)<=INDEX(基準!$F$2:$F$51,O11),INDEX(基準!$G$2:$G$51,O11)<>""),"要","基準値を確認"))))))
K12: =IF(COUNTA(A12:J12)=0,"",IF(A12="","IDなし",IF(SUMPRODUCT(--($A$2:$A$51=A12))<>1,"出力ID重複",IF(SUMPRODUCT(--(期待!$A$2:$A$51=A12),--(期待!$C$2:$C$51="必須"))<>1,"期待にないID","OK")))) | L12: =IF(K12="","",IF(E12="","結果が空欄",IF(E12="要確認","要確認",IF(SUMPRODUCT(--(凡例!$A$2:$A$51=E12))=1,"OK","凡例なし・重複")))) | M12: =IF(K12="","",IF(P12="不要",IF(AND(F12="",G12=""),"OK","不要項目に値あり"),IF(P12<>"要",P12,IF(F12="","測定値が空欄",IF(NOT(ISNUMBER(F12)),"測定値を確認",IF(NOT(EXACT(ASC(G12),ASC(INDEX(基準!$G$2:$G$51,O12)))),"単位を確認",IF(OR(F12<INDEX(基準!$E$2:$E$51,O12),F12>INDEX(基準!$F$2:$F$51,O12)),"基準外","OK"))))))) | N12: =IF(K12="","",IF(O12=0,"ID・基準を確認",IF(AND(ASC(C12)=ASC(INDEX(基準!$B$2:$B$51,O12)),ASC(D12)=ASC(INDEX(基準!$C$2:$C$51,O12))),"OK","設備・項目を確認"))) | O12: =IF(K12="OK",IF(SUMPRODUCT(--(基準!$A$2:$A$51=A12))=1,MATCH(A12,基準!$A$2:$A$51,0),0),0) -> 0 | P12: =IF(K12="","",IF(O12=0,"ID・基準を確認",IF(OR(INDEX(基準!$B$2:$B$51,O12)="",INDEX(基準!$C$2:$C$51,O12)=""),"基準名を確認",IF(INDEX(基準!$D$2:$D$51,O12)="不要","不要",IF(INDEX(基準!$D$2:$D$51,O12)<>"要","測定区分を確認",IF(AND(COUNT(INDEX(基準!$E$2:$F$51,O12,0))=2,INDEX(基準!$E$2:$E$51,O12)<=INDEX(基準!$F$2:$F$51,O12),INDEX(基準!$G$2:$G$51,O12)<>""),"要","基準値を確認"))))))
K13: =IF(COUNTA(A13:J13)=0,"",IF(A13="","IDなし",IF(SUMPRODUCT(--($A$2:$A$51=A13))<>1,"出力ID重複",IF(SUMPRODUCT(--(期待!$A$2:$A$51=A13),--(期待!$C$2:$C$51="必須"))<>1,"期待にないID","OK")))) | L13: =IF(K13="","",IF(E13="","結果が空欄",IF(E13="要確認","要確認",IF(SUMPRODUCT(--(凡例!$A$2:$A$51=E13))=1,"OK","凡例なし・重複")))) | M13: =IF(K13="","",IF(P13="不要",IF(AND(F13="",G13=""),"OK","不要項目に値あり"),IF(P13<>"要",P13,IF(F13="","測定値が空欄",IF(NOT(ISNUMBER(F13)),"測定値を確認",IF(NOT(EXACT(ASC(G13),ASC(INDEX(基準!$G$2:$G$51,O13)))),"単位を確認",IF(OR(F13<INDEX(基準!$E$2:$E$51,O13),F13>INDEX(基準!$F$2:$F$51,O13)),"基準外","OK"))))))) | N13: =IF(K13="","",IF(O13=0,"ID・基準を確認",IF(AND(ASC(C13)=ASC(INDEX(基準!$B$2:$B$51,O13)),ASC(D13)=ASC(INDEX(基準!$C$2:$C$51,O13))),"OK","設備・項目を確認"))) | O13: =IF(K13="OK",IF(SUMPRODUCT(--(基準!$A$2:$A$51=A13))=1,MATCH(A13,基準!$A$2:$A$51,0),0),0) -> 0 | P13: =IF(K13="","",IF(O13=0,"ID・基準を確認",IF(OR(INDEX(基準!$B$2:$B$51,O13)="",INDEX(基準!$C$2:$C$51,O13)=""),"基準名を確認",IF(INDEX(基準!$D$2:$D$51,O13)="不要","不要",IF(INDEX(基準!$D$2:$D$51,O13)<>"要","測定区分を確認",IF(AND(COUNT(INDEX(基準!$E$2:$F$51,O13,0))=2,INDEX(基準!$E$2:$E$51,O13)<=INDEX(基準!$F$2:$F$51,O13),INDEX(基準!$G$2:$G$51,O13)<>""),"要","基準値を確認"))))))
K14: =IF(COUNTA(A14:J14)=0,"",IF(A14="","IDなし",IF(SUMPRODUCT(--($A$2:$A$51=A14))<>1,"出力ID重複",IF(SUMPRODUCT(--(期待!$A$2:$A$51=A14),--(期待!$C$2:$C$51="必須"))<>1,"期待にないID","OK")))) | L14: =IF(K14="","",IF(E14="","結果が空欄",IF(E14="要確認","要確認",IF(SUMPRODUCT(--(凡例!$A$2:$A$51=E14))=1,"OK","凡例なし・重複")))) | M14: =IF(K14="","",IF(P14="不要",IF(AND(F14="",G14=""),"OK","不要項目に値あり"),IF(P14<>"要",P14,IF(F14="","測定値が空欄",IF(NOT(ISNUMBER(F14)),"測定値を確認",IF(NOT(EXACT(ASC(G14),ASC(INDEX(基準!$G$2:$G$51,O14)))),"単位を確認",IF(OR(F14<INDEX(基準!$E$2:$E$51,O14),F14>INDEX(基準!$F$2:$F$51,O14)),"基準外","OK"))))))) | N14: =IF(K14="","",IF(O14=0,"ID・基準を確認",IF(AND(ASC(C14)=ASC(INDEX(基準!$B$2:$B$51,O14)),ASC(D14)=ASC(INDEX(基準!$C$2:$C$51,O14))),"OK","設備・項目を確認"))) | O14: =IF(K14="OK",IF(SUMPRODUCT(--(基準!$A$2:$A$51=A14))=1,MATCH(A14,基準!$A$2:$A$51,0),0),0) -> 0 | P14: =IF(K14="","",IF(O14=0,"ID・基準を確認",IF(OR(INDEX(基準!$B$2:$B$51,O14)="",INDEX(基準!$C$2:$C$51,O14)=""),"基準名を確認",IF(INDEX(基準!$D$2:$D$51,O14)="不要","不要",IF(INDEX(基準!$D$2:$D$51,O14)<>"要","測定区分を確認",IF(AND(COUNT(INDEX(基準!$E$2:$F$51,O14,0))=2,INDEX(基準!$E$2:$E$51,O14)<=INDEX(基準!$F$2:$F$51,O14),INDEX(基準!$G$2:$G$51,O14)<>""),"要","基準値を確認"))))))
K15: =IF(COUNTA(A15:J15)=0,"",IF(A15="","IDなし",IF(SUMPRODUCT(--($A$2:$A$51=A15))<>1,"出力ID重複",IF(SUMPRODUCT(--(期待!$A$2:$A$51=A15),--(期待!$C$2:$C$51="必須"))<>1,"期待にないID","OK")))) | L15: =IF(K15="","",IF(E15="","結果が空欄",IF(E15="要確認","要確認",IF(SUMPRODUCT(--(凡例!$A$2:$A$51=E15))=1,"OK","凡例なし・重複")))) | M15: =IF(K15="","",IF(P15="不要",IF(AND(F15="",G15=""),"OK","不要項目に値あり"),IF(P15<>"要",P15,IF(F15="","測定値が空欄",IF(NOT(ISNUMBER(F15)),"測定値を確認",IF(NOT(EXACT(ASC(G15),ASC(INDEX(基準!$G$2:$G$51,O15)))),"単位を確認",IF(OR(F15<INDEX(基準!$E$2:$E$51,O15),F15>INDEX(基準!$F$2:$F$51,O15)),"基準外","OK"))))))) | N15: =IF(K15="","",IF(O15=0,"ID・基準を確認",IF(AND(ASC(C15)=ASC(INDEX(基準!$B$2:$B$51,O15)),ASC(D15)=ASC(INDEX(基準!$C$2:$C$51,O15))),"OK","設備・項目を確認"))) | O15: =IF(K15="OK",IF(SUMPRODUCT(--(基準!$A$2:$A$51=A15))=1,MATCH(A15,基準!$A$2:$A$51,0),0),0) -> 0 | P15: =IF(K15="","",IF(O15=0,"ID・基準を確認",IF(OR(INDEX(基準!$B$2:$B$51,O15)="",INDEX(基準!$C$2:$C$51,O15)=""),"基準名を確認",IF(INDEX(基準!$D$2:$D$51,O15)="不要","不要",IF(INDEX(基準!$D$2:$D$51,O15)<>"要","測定区分を確認",IF(AND(COUNT(INDEX(基準!$E$2:$F$51,O15,0))=2,INDEX(基準!$E$2:$E$51,O15)<=INDEX(基準!$F$2:$F$51,O15),INDEX(基準!$G$2:$G$51,O15)<>""),"要","基準値を確認"))))))
K16: =IF(COUNTA(A16:J16)=0,"",IF(A16="","IDなし",IF(SUMPRODUCT(--($A$2:$A$51=A16))<>1,"出力ID重複",IF(SUMPRODUCT(--(期待!$A$2:$A$51=A16),--(期待!$C$2:$C$51="必須"))<>1,"期待にないID","OK")))) | L16: =IF(K16="","",IF(E16="","結果が空欄",IF(E16="要確認","要確認",IF(SUMPRODUCT(--(凡例!$A$2:$A$51=E16))=1,"OK","凡例なし・重複")))) | M16: =IF(K16="","",IF(P16="不要",IF(AND(F16="",G16=""),"OK","不要項目に値あり"),IF(P16<>"要",P16,IF(F16="","測定値が空欄",IF(NOT(ISNUMBER(F16)),"測定値を確認",IF(NOT(EXACT(ASC(G16),ASC(INDEX(基準!$G$2:$G$51,O16)))),"単位を確認",IF(OR(F16<INDEX(基準!$E$2:$E$51,O16),F16>INDEX(基準!$F$2:$F$51,O16)),"基準外","OK"))))))) | N16: =IF(K16="","",IF(O16=0,"ID・基準を確認",IF(AND(ASC(C16)=ASC(INDEX(基準!$B$2:$B$51,O16)),ASC(D16)=ASC(INDEX(基準!$C$2:$C$51,O16))),"OK","設備・項目を確認"))) | O16: =IF(K16="OK",IF(SUMPRODUCT(--(基準!$A$2:$A$51=A16))=1,MATCH(A16,基準!$A$2:$A$51,0),0),0) -> 0 | P16: =IF(K16="","",IF(O16=0,"ID・基準を確認",IF(OR(INDEX(基準!$B$2:$B$51,O16)="",INDEX(基準!$C$2:$C$51,O16)=""),"基準名を確認",IF(INDEX(基準!$D$2:$D$51,O16)="不要","不要",IF(INDEX(基準!$D$2:$D$51,O16)<>"要","測定区分を確認",IF(AND(COUNT(INDEX(基準!$E$2:$F$51,O16,0))=2,INDEX(基準!$E$2:$E$51,O16)<=INDEX(基準!$F$2:$F$51,O16),INDEX(基準!$G$2:$G$51,O16)<>""),"要","基準値を確認"))))))
K17: =IF(COUNTA(A17:J17)=0,"",IF(A17="","IDなし",IF(SUMPRODUCT(--($A$2:$A$51=A17))<>1,"出力ID重複",IF(SUMPRODUCT(--(期待!$A$2:$A$51=A17),--(期待!$C$2:$C$51="必須"))<>1,"期待にないID","OK")))) | L17: =IF(K17="","",IF(E17="","結果が空欄",IF(E17="要確認","要確認",IF(SUMPRODUCT(--(凡例!$A$2:$A$51=E17))=1,"OK","凡例なし・重複")))) | M17: =IF(K17="","",IF(P17="不要",IF(AND(F17="",G17=""),"OK","不要項目に値あり"),IF(P17<>"要",P17,IF(F17="","測定値が空欄",IF(NOT(ISNUMBER(F17)),"測定値を確認",IF(NOT(EXACT(ASC(G17),ASC(INDEX(基準!$G$2:$G$51,O17)))),"単位を確認",IF(OR(F17<INDEX(基準!$E$2:$E$51,O17),F17>INDEX(基準!$F$2:$F$51,O17)),"基準外","OK"))))))) | N17: =IF(K17="","",IF(O17=0,"ID・基準を確認",IF(AND(ASC(C17)=ASC(INDEX(基準!$B$2:$B$51,O17)),ASC(D17)=ASC(INDEX(基準!$C$2:$C$51,O17))),"OK","設備・項目を確認"))) | O17: =IF(K17="OK",IF(SUMPRODUCT(--(基準!$A$2:$A$51=A17))=1,MATCH(A17,基準!$A$2:$A$51,0),0),0) -> 0 | P17: =IF(K17="","",IF(O17=0,"ID・基準を確認",IF(OR(INDEX(基準!$B$2:$B$51,O17)="",INDEX(基準!$C$2:$C$51,O17)=""),"基準名を確認",IF(INDEX(基準!$D$2:$D$51,O17)="不要","不要",IF(INDEX(基準!$D$2:$D$51,O17)<>"要","測定区分を確認",IF(AND(COUNT(INDEX(基準!$E$2:$F$51,O17,0))=2,INDEX(基準!$E$2:$E$51,O17)<=INDEX(基準!$F$2:$F$51,O17),INDEX(基準!$G$2:$G$51,O17)<>""),"要","基準値を確認"))))))
K18: =IF(COUNTA(A18:J18)=0,"",IF(A18="","IDなし",IF(SUMPRODUCT(--($A$2:$A$51=A18))<>1,"出力ID重複",IF(SUMPRODUCT(--(期待!$A$2:$A$51=A18),--(期待!$C$2:$C$51="必須"))<>1,"期待にないID","OK")))) | L18: =IF(K18="","",IF(E18="","結果が空欄",IF(E18="要確認","要確認",IF(SUMPRODUCT(--(凡例!$A$2:$A$51=E18))=1,"OK","凡例なし・重複")))) | M18: =IF(K18="","",IF(P18="不要",IF(AND(F18="",G18=""),"OK","不要項目に値あり"),IF(P18<>"要",P18,IF(F18="","測定値が空欄",IF(NOT(ISNUMBER(F18)),"測定値を確認",IF(NOT(EXACT(ASC(G18),ASC(INDEX(基準!$G$2:$G$51,O18)))),"単位を確認",IF(OR(F18<INDEX(基準!$E$2:$E$51,O18),F18>INDEX(基準!$F$2:$F$51,O18)),"基準外","OK"))))))) | N18: =IF(K18="","",IF(O18=0,"ID・基準を確認",IF(AND(ASC(C18)=ASC(INDEX(基準!$B$2:$B$51,O18)),ASC(D18)=ASC(INDEX(基準!$C$2:$C$51,O18))),"OK","設備・項目を確認"))) | O18: =IF(K18="OK",IF(SUMPRODUCT(--(基準!$A$2:$A$51=A18))=1,MATCH(A18,基準!$A$2:$A$51,0),0),0) -> 0 | P18: =IF(K18="","",IF(O18=0,"ID・基準を確認",IF(OR(INDEX(基準!$B$2:$B$51,O18)="",INDEX(基準!$C$2:$C$51,O18)=""),"基準名を確認",IF(INDEX(基準!$D$2:$D$51,O18)="不要","不要",IF(INDEX(基準!$D$2:$D$51,O18)<>"要","測定区分を確認",IF(AND(COUNT(INDEX(基準!$E$2:$F$51,O18,0))=2,INDEX(基準!$E$2:$E$51,O18)<=INDEX(基準!$F$2:$F$51,O18),INDEX(基準!$G$2:$G$51,O18)<>""),"要","基準値を確認"))))))
... K51: =IF(COUNTA(A51:J51)=0,"",IF(A51="","IDなし",IF(SUMPRODUCT(--($A$2:$A$51=A51))<>1,"出力ID重複",IF(SUMPRODUCT(--(期待!$A$2:$A$51=A51),--(期待!$C$2:$C$51="必須"))<>1,"期待にないID","OK")))) | L51: =IF(K51="","",IF(E51="","結果が空欄",IF(E51="要確認","要確認",IF(SUMPRODUCT(--(凡例!$A$2:$A$51=E51))=1,"OK","凡例なし・重複")))) | M51: =IF(K51="","",IF(P51="不要",IF(AND(F51="",G51=""),"OK","不要項目に値あり"),IF(P51<>"要",P51,IF(F51="","測定値が空欄",IF(NOT(ISNUMBER(F51)),"測定値を確認",IF(NOT(EXACT(ASC(G51),ASC(INDEX(基準!$G$2:$G$51,O51)))),"単位を確認",IF(OR(F51<INDEX(基準!$E$2:$E$51,O51),F51>INDEX(基準!$F$2:$F$51,O51)),"基準外","OK"))))))) | N51: =IF(K51="","",IF(O51=0,"ID・基準を確認",IF(AND(ASC(C51)=ASC(INDEX(基準!$B$2:$B$51,O51)),ASC(D51)=ASC(INDEX(基準!$C$2:$C$51,O51))),"OK","設備・項目を確認"))) | O51: =IF(K51="OK",IF(SUMPRODUCT(--(基準!$A$2:$A$51=A51))=1,MATCH(A51,基準!$A$2:$A$51,0),0),0) -> 0 | P51: =IF(K51="","",IF(O51=0,"ID・基準を確認",IF(OR(INDEX(基準!$B$2:$B$51,O51)="",INDEX(基準!$C$2:$C$51,O51)=""),"基準名を確認",IF(INDEX(基準!$D$2:$D$51,O51)="不要","不要",IF(INDEX(基準!$D$2:$D$51,O51)<>"要","測定区分を確認",IF(AND(COUNT(INDEX(基準!$E$2:$F$51,O51,0))=2,INDEX(基準!$E$2:$E$51,O51)<=INDEX(基準!$F$2:$F$51,O51),INDEX(基準!$G$2:$G$51,O51)<>""),"要","基準値を確認"))))))

Sheet 期待
A1: ID | B1: 原本の位置 | C1: 扱い | D1: 出現数 | E1: 照合結果
A2: I20261003-01-001 | B2: 1ページ・項目1（圧力） | C2: 必須 | D2: =IF(A2="","",SUMPRODUCT(--(出力!$A$2:$A$51=A2))) -> 1 | E2: =IF(COUNTA(A2:C2)=0,"",IF(A2="","期待IDなし",IF(SUMPRODUCT(--($A$2:$A$51=A2))<>1,"期待ID重複",IF(B2="","原本位置なし",IF(C2="必須",IF(D2=0,"欠落",IF(D2=1,"OK","出力重複")),IF(C2="空白確認済み",IF(D2=0,"OK","空白行に出力あり"),"扱いを確認")))))) -> OK
A3: I20261003-01-002 | B3: 1ページ・項目2（温度） | C3: 必須 | D3: =IF(A3="","",SUMPRODUCT(--(出力!$A$2:$A$51=A3))) -> 1 | E3: =IF(COUNTA(A3:C3)=0,"",IF(A3="","期待IDなし",IF(SUMPRODUCT(--($A$2:$A$51=A3))<>1,"期待ID重複",IF(B3="","原本位置なし",IF(C3="必須",IF(D3=0,"欠落",IF(D3=1,"OK","出力重複")),IF(C3="空白確認済み",IF(D3=0,"OK","空白行に出力あり"),"扱いを確認")))))) -> OK
D4: =IF(A4="","",SUMPRODUCT(--(出力!$A$2:$A$51=A4))) | E4: =IF(COUNTA(A4:C4)=0,"",IF(A4="","期待IDなし",IF(SUMPRODUCT(--($A$2:$A$51=A4))<>1,"期待ID重複",IF(B4="","原本位置なし",IF(C4="必須",IF(D4=0,"欠落",IF(D4=1,"OK","出力重複")),IF(C4="空白確認済み",IF(D4=0,"OK","空白行に出力あり"),"扱いを確認"))))))
D5: =IF(A5="","",SUMPRODUCT(--(出力!$A$2:$A$51=A5))) | E5: =IF(COUNTA(A5:C5)=0,"",IF(A5="","期待IDなし",IF(SUMPRODUCT(--($A$2:$A$51=A5))<>1,"期待ID重複",IF(B5="","原本位置なし",IF(C5="必須",IF(D5=0,"欠落",IF(D5=1,"OK","出力重複")),IF(C5="空白確認済み",IF(D5=0,"OK","空白行に出力あり"),"扱いを確認"))))))
D6: =IF(A6="","",SUMPRODUCT(--(出力!$A$2:$A$51=A6))) | E6: =IF(COUNTA(A6:C6)=0,"",IF(A6="","期待IDなし",IF(SUMPRODUCT(--($A$2:$A$51=A6))<>1,"期待ID重複",IF(B6="","原本位置なし",IF(C6="必須",IF(D6=0,"欠落",IF(D6=1,"OK","出力重複")),IF(C6="空白確認済み",IF(D6=0,"OK","空白行に出力あり"),"扱いを確認"))))))
D7: =IF(A7="","",SUMPRODUCT(--(出力!$A$2:$A$51=A7))) | E7: =IF(COUNTA(A7:C7)=0,"",IF(A7="","期待IDなし",IF(SUMPRODUCT(--($A$2:$A$51=A7))<>1,"期待ID重複",IF(B7="","原本位置なし",IF(C7="必須",IF(D7=0,"欠落",IF(D7=1,"OK","出力重複")),IF(C7="空白確認済み",IF(D7=0,"OK","空白行に出力あり"),"扱いを確認"))))))
D8: =IF(A8="","",SUMPRODUCT(--(出力!$A$2:$A$51=A8))) | E8: =IF(COUNTA(A8:C8)=0,"",IF(A8="","期待IDなし",IF(SUMPRODUCT(--($A$2:$A$51=A8))<>1,"期待ID重複",IF(B8="","原本位置なし",IF(C8="必須",IF(D8=0,"欠落",IF(D8=1,"OK","出力重複")),IF(C8="空白確認済み",IF(D8=0,"OK","空白行に出力あり"),"扱いを確認"))))))
D9: =IF(A9="","",SUMPRODUCT(--(出力!$A$2:$A$51=A9))) | E9: =IF(COUNTA(A9:C9)=0,"",IF(A9="","期待IDなし",IF(SUMPRODUCT(--($A$2:$A$51=A9))<>1,"期待ID重複",IF(B9="","原本位置なし",IF(C9="必須",IF(D9=0,"欠落",IF(D9=1,"OK","出力重複")),IF(C9="空白確認済み",IF(D9=0,"OK","空白行に出力あり"),"扱いを確認"))))))
D10: =IF(A10="","",SUMPRODUCT(--(出力!$A$2:$A$51=A10))) | E10: =IF(COUNTA(A10:C10)=0,"",IF(A10="","期待IDなし",IF(SUMPRODUCT(--($A$2:$A$51=A10))<>1,"期待ID重複",IF(B10="","原本位置なし",IF(C10="必須",IF(D10=0,"欠落",IF(D10=1,"OK","出力重複")),IF(C10="空白確認済み",IF(D10=0,"OK","空白行に出力あり"),"扱いを確認"))))))
D11: =IF(A11="","",SUMPRODUCT(--(出力!$A$2:$A$51=A11))) | E11: =IF(COUNTA(A11:C11)=0,"",IF(A11="","期待IDなし",IF(SUMPRODUCT(--($A$2:$A$51=A11))<>1,"期待ID重複",IF(B11="","原本位置なし",IF(C11="必須",IF(D11=0,"欠落",IF(D11=1,"OK","出力重複")),IF(C11="空白確認済み",IF(D11=0,"OK","空白行に出力あり"),"扱いを確認"))))))
D12: =IF(A12="","",SUMPRODUCT(--(出力!$A$2:$A$51=A12))) | E12: =IF(COUNTA(A12:C12)=0,"",IF(A12="","期待IDなし",IF(SUMPRODUCT(--($A$2:$A$51=A12))<>1,"期待ID重複",IF(B12="","原本位置なし",IF(C12="必須",IF(D12=0,"欠落",IF(D12=1,"OK","出力重複")),IF(C12="空白確認済み",IF(D12=0,"OK","空白行に出力あり"),"扱いを確認"))))))
D13: =IF(A13="","",SUMPRODUCT(--(出力!$A$2:$A$51=A13))) | E13: =IF(COUNTA(A13:C13)=0,"",IF(A13="","期待IDなし",IF(SUMPRODUCT(--($A$2:$A$51=A13))<>1,"期待ID重複",IF(B13="","原本位置なし",IF(C13="必須",IF(D13=0,"欠落",IF(D13=1,"OK","出力重複")),IF(C13="空白確認済み",IF(D13=0,"OK","空白行に出力あり"),"扱いを確認"))))))
D14: =IF(A14="","",SUMPRODUCT(--(出力!$A$2:$A$51=A14))) | E14: =IF(COUNTA(A14:C14)=0,"",IF(A14="","期待IDなし",IF(SUMPRODUCT(--($A$2:$A$51=A14))<>1,"期待ID重複",IF(B14="","原本位置なし",IF(C14="必須",IF(D14=0,"欠落",IF(D14=1,"OK","出力重複")),IF(C14="空白確認済み",IF(D14=0,"OK","空白行に出力あり"),"扱いを確認"))))))
D15: =IF(A15="","",SUMPRODUCT(--(出力!$A$2:$A$51=A15))) | E15: =IF(COUNTA(A15:C15)=0,"",IF(A15="","期待IDなし",IF(SUMPRODUCT(--($A$2:$A$51=A15))<>1,"期待ID重複",IF(B15="","原本位置なし",IF(C15="必須",IF(D15=0,"欠落",IF(D15=1,"OK","出力重複")),IF(C15="空白確認済み",IF(D15=0,"OK","空白行に出力あり"),"扱いを確認"))))))
... D51: =IF(A51="","",SUMPRODUCT(--(出力!$A$2:$A$51=A51))) | E51: =IF(COUNTA(A51:C51)=0,"",IF(A51="","期待IDなし",IF(SUMPRODUCT(--($A$2:$A$51=A51))<>1,"期待ID重複",IF(B51="","原本位置なし",IF(C51="必須",IF(D51=0,"欠落",IF(D51=1,"OK","出力重複")),IF(C51="空白確認済み",IF(D51=0,"OK","空白行に出力あり"),"扱いを確認"))))))

Sheet 基準
A1: ID | B1: 設備名 | C1: 項目名 | D1: 測定 | E1: 下限 | F1: 上限 | G1: 単位
A2: I20261003-01-001 | B2: 1号機 | C2: 圧力 | D2: 要 | E2: 0.6 | F2: 0.8 | G2: MPa
A3: I20261003-01-002 | B3: 1号機 | C3: 温度 | D3: 要 | E3: 20 | F3: 30 | G3: ℃

Sheet 凡例
A1: 印
A2: ○
A3: ×
A4: ／

Sheet 原出力
A1: ID | B1: 点検日 | C1: 設備名 | D1: 点検項目 | E1: 結果 | F1: 測定値 | G1: 単位 | H1: 点検者 | I1: 備考 | K1: 原出力の控え（架空の正常データ）
A2: I20261003-01-001 | B2: 46298 | C2: １号機 | D2: 圧力 | E2: ○ | F2: 0.7 | G2: MPa | H2: 山田 一郎
A3: I20261003-01-002 | B3: 46298 | C3: 1号機 | D3: 温度 | E3: ○ | F3: 25 | G3: ℃ | H3: 山田 一郎

Sheet 使い方
A2: 点検表の照合見本
A4: 用途 | B4: 架空の正常データを使った、帳票1枚・最大50行の照合見本です。
A5: 黄色のセル | B5: 手入力・貼り付け用。数式セルを上書きしないでください。
A6: 灰色のセル | B6: 判定・比較用の数式。必要な数式は2〜51行目へ入力済みです。
A7: 原出力 | B7: 最初に受け取った表を値で残す控えです。訂正は「出力」で行います。
A8: 期待 | B8: 原本を人が見てID・原本位置・扱いを登録します。AI出力から作りません。
A9: 入力の範囲 | B9: 出力のA:I列、期待のA:C列、基準のA:G列、凡例のA列です。
A10: 50行の上限 | B10: 出力・期待・名簿・現場・基準・凡例は各50件まで。52行目以降は判定対象外です。
A11: 入力の型 | B11: 日付と測定値・上下限は数値で入力。単位は大文字・小文字も区別します。
A12: 確認の順番 | B12: 出力T4の行照合を先に確認し、各行のK:N列とT6を確認します。
A13: 原本照合へ | B13: 登録許可ではありません。登録に使うすべての欄を原本と比べます。
A14: 訂正の記録 | B14: 訂正前後・確認者・日時を備考等に残します。警告のために基準を変えません。
A15: 次の帳票 | B15: ブックをコピーして期待IDと基準IDを更新。同設備・同項目なら基準値の打ち直しは不要です。
... A19: 接続 | B19: 外部リンク・マクロはありません。ローカルで使う編集可能な見本です。
